BEGIN:VCALENDAR
CALSCALE:GREGORIAN
VERSION:2.0
PRODID:-//Elixir ICalendar//Mobilizon 5.2.2//EN
BEGIN:VEVENT
ATTACH;FMTTYPE=image/jpeg:https://rheinneckar.events/media/3c4006d36ca9bf5ee925c4e2ec60e297f14142a22f84e825c30f45c49b05b76b.jpg?name=Sharepic2026_1024.jpg
DESCRIPTION:Auch in diesem Jahr lädt die Zukunftswerkstatt Weststadt mit Ihren Kooperationspartner*innen wieder zu einem alternativen Frühlingsmarkt auf dem „Willi“ ein. In den vergangenen 3 Jahren stieß dieser auf sehr positives Feedback beim Publikum und den teilnehmenden Vereinen und Einrichtungen. Der zuvor viele Jahre stattfindende alternative Weihnachtsmarkt hat sich erfolgreich zum Frühlingsmarkt gewandelt und begründet sicher eine neue Tradition in der Weststadt.\n\nWas sich nicht geändert hat\, ist der alternative Gedanke der Initiative\, der die Menschen und das solidarische Miteinander in den Fokus stellt. In diesem Sinne stellen sich etwa 40 gemeinnützige Vereine und Einrichtungen vor\, laden zum Austausch und Mitmachen ein und bieten ihre nachhaltigen Waren an. Neben der Möglichkeit\, in dem Angebot zu stöbern wird selbstverständlich auch für das leibliche Wohl mit allerlei Leckereien gesorgt. Auch die kleinen Besucher*innen dürfen wieder aktiv werden und jede Menge raten und spielen\, basteln und pflanzen.\n\n
DTEND;TZID=Europe/Berlin:20260510T190000
DTSTAMP:20260422T144555Z
DTSTART;TZID=Europe/Berlin:20260510T120000
GEO:49.40316615;8.687502193038746
LOCATION:Wilhelmsplatz  69115 Heidelberg Baden-Württemberg Deutschland
ORGANIZER:Zukunftswerkstatt Heidelberg-Weststadt
STATUS:CONFIRMED
SUMMARY:Friiling uffm Willi - der alternative Frühlingsmarkt in Heidelberg
UID:04fb4271-f035-4f6d-acc9-cf9224262efa
URL:https://rheinneckar.events/events/04fb4271-f035-4f6d-acc9-cf9224262efa
END:VEVENT
END:VCALENDAR
